BEGIN:VCALENDAR
VERSION:2.0
PRODID:-//Österreichische Gesellschaft vom Goldenen Kreuze - ECPv6.15.9//NONSGML v1.0//EN
CALSCALE:GREGORIAN
METHOD:PUBLISH
X-WR-CALNAME:Österreichische Gesellschaft vom Goldenen Kreuze
X-ORIGINAL-URL:https://www.oeggk.at
X-WR-CALDESC:Veranstaltungen für Österreichische Gesellschaft vom Goldenen Kreuze
REFRESH-INTERVAL;VALUE=DURATION:PT1H
X-Robots-Tag:noindex
X-PUBLISHED-TTL:PT1H
BEGIN:VTIMEZONE
TZID:Europe/Vienna
BEGIN:DAYLIGHT
TZOFFSETFROM:+0100
TZOFFSETTO:+0200
TZNAME:CEST
DTSTART:20250330T010000
END:DAYLIGHT
BEGIN:STANDARD
TZOFFSETFROM:+0200
TZOFFSETTO:+0100
TZNAME:CET
DTSTART:20251026T010000
END:STANDARD
BEGIN:DAYLIGHT
TZOFFSETFROM:+0100
TZOFFSETTO:+0200
TZNAME:CEST
DTSTART:20260329T010000
END:DAYLIGHT
BEGIN:STANDARD
TZOFFSETFROM:+0200
TZOFFSETTO:+0100
TZNAME:CET
DTSTART:20261025T010000
END:STANDARD
BEGIN:DAYLIGHT
TZOFFSETFROM:+0100
TZOFFSETTO:+0200
TZNAME:CEST
DTSTART:20270328T010000
END:DAYLIGHT
BEGIN:STANDARD
TZOFFSETFROM:+0200
TZOFFSETTO:+0100
TZNAME:CET
DTSTART:20271031T010000
END:STANDARD
END:VTIMEZONE
BEGIN:VEVENT
DTSTART;TZID=Europe/Vienna:20260829T140000
DTEND;TZID=Europe/Vienna:20260829T223000
DTSTAMP:20260425T141814
CREATED:20260305T215540Z
LAST-MODIFIED:20260306T105805Z
UID:10001772-1788012000-1788042600@www.oeggk.at
SUMMARY:Allegro Vivo Kulturfahrt
DESCRIPTION:Allegro Vivo Kulturfahrt\n\n	« Alle Veranstaltungen\n \nDetails\n			29. August 2026\n	 \,\n14:00\n	  –\n22:30 \n\n	Kosten:\n\n€85\,0 – €95\,0 \n\n	Kategorien:\n		Kunst und Kultur	 \n\n	Website:\n	https://www.allegro-vivo.at/de/events/hymnusandensueden \nVeranstalter\n\n			\n			Allegro Vivo			\n	\n\n	Telefon:\n\n					\n						\n	 \n\n	E-Mail:\n\n					\n						\n	 \nVeranstaltungsort\n\n			\n		Schloss Göpfritz an der Wild\, Kulturstadl			\n	\n\nHauptstraße 72\n			3800\n		Göpfritz\,\n\n\n	Google-Karte anzeigen \n\n	 \nAnmeldungen / Karten / Eintritt\n\n		\n		\n		\n		\n \n\n	Anmeldungen\n		The numbers below include tickets for this event already in your cart. Clicking „Get Tickets“ will allow you to edit any existing attendee information as well as change ticket quantities.\n				Normalpreis: Allegro Vivo Kulturfahrt\n	Preis pro Person inkludiert Busfahrt\, Führung\, Einführungsgespräch und Konzertticket 1. Kategorie\n					€\n					95\,0\n	Unbegrenzte Teilnehmerzahl\n			\n	Decrease ticket quantity for Normalpreis: Allegro Vivo Kulturfahrt\n	–\n	\n		Anzahl	\n	\n		\n	Increase ticket quantity for Normalpreis: Allegro Vivo Kulturfahrt\n	+\n		\n				Tarif für ÖGGK-Mitglieder: Allegro Vivo Kulturfahrt\n	Preis pro Person inkludiert Busfahrt\, Führung\, Einführungsgespräch und Konzertticket 1. Kategorie. Der ermäßigte Tarif gilt für zwei Karten\, also auch für die Begleitperson eines Mitglieds.\n					€\n					85\,0\n	Unbegrenzte Teilnehmerzahl\n			\n	Decrease ticket quantity for Tarif für ÖGGK-Mitglieder: Allegro Vivo Kulturfahrt\n	–\n	\n		Anzahl	\n	\n		\n	Increase ticket quantity for Tarif für ÖGGK-Mitglieder: Allegro Vivo Kulturfahrt\n	+\n		\n		Anzahl:\n	0\n		Summe:\n					€\n					0\,0\n	\n	Anmelden\n	\n	\n\n	\n	\n\n	\n	\n\n			\nVeranstaltung speichern\n\n	\n	Zum Kalender hinzufügen	\n		\n	\n \n\n\n	Google Kalender\n\n\n	iCalendar\n\n\n	Outlook 365\n\n\n	Outlook Live\n\n\n	 \nFoto (c) Reinhard Podolsky \nAllegro Vivo Kulturfahrt: Hymnus an den Süden\nAllegro Vivo und die Österreichische Gesellschaft vom Goldenen Kreuze laden gemeinsam herzlich zur Kulturfahrt ins Waldviertel ein!Nach einer exklusiven Führung durch das Renaissanceschloss Greillenstein können sich die Konzertgäste im gemütlichen Gasthof Wildrast stärken. Danach ist im Kulturstadl des Schlosses Göpfritz ein hochkarätiger Klavierabend zu vier Händen mit Kateryna Titova und Eduard Kutrowatz erlebbar. Michael Dangl gestaltet dazu eigene Texte sowie Werke von J. W. von Goethe und E.T.A. Hoffmann. \nAblauf\nSamstag\, 29. August 2026 \n14.00 Uhr Abfahrt 1010 Wien\, Operngasse 415.30 Uhr Führung Schloss Greillenstein17.00 Uhr Möglichkeit zum Essen bzw. Kaffeejause im Gasthof Wildrast\, Göpfritz (eigene Rechnung) \nKonzertort: Schloss Göpfritz an der Wild\, Kulturstadl \n19.00 Uhr Konzert„Hymnus an den Süden“ \nJ. Strauss –  „Rosen aus dem Süden“ Walzer op. 388D. Scarlatti – Sonaten K9\, K27J. Brahms – aus: Walzer op.39S. Rachmaninoff –  Polka ItalienneJ. G. Rheinberger – Tarantella op.13E. Kutrowatz – Valzer Grottesco (Walzer und Blues); Toccata MisticaA. Piazzolla – Libertango \nsowie Filmmusik von E. Morricone u.a. \nMichael Dangl liest Texte von J. W. v. Goethe (aus: „Italienische Reise“)\, E. T. A. Hoffmann (zum 250. Geburtstag) sowie eigene Texte (aus: „Hymnus an den Süden“) \nMichael Dangl\, RezitationEduard Kutrowatz\, KlavierKateryna Titova\, Klavier \nRückfahrt ca. 21.00 Uhr (Ankunft Wien 22.30) \nKarten und wichtige Infos\n95\,-€ Normalpreis pro Person inkludiert Busfahrt\, Führung\, Einführungsgespräch und Konzertticket 1. Kat.; Mitglieder der ÖGGK: 85.- \nAbfahrt: Samstag\, 29. August 2026\, 14 UhrOperngasse 4\, 1010 Wien \nMindestteilnehmer*innen: 20 Personen\, es gelten die Stornobedingungen von Allegro Vivo laut AGB. \n					\n									Veranstaltungsfolder herunterladen\n					 \n\n\n\n\n				Zahngesundheit & Osteoporose
URL:https://www.oeggk.at/veranstaltung/allegro-vivo-kulturfahrt/
LOCATION:Schloss Göpfritz an der Wild\, Kulturstadl\, Hauptstraße 72\, Göpfritz\, 3800
CATEGORIES:Kunst und Kultur
ATTACH;FMTTYPE=image/jpeg:https://www.oeggk.at/wp-content/uploads/2026/03/20260829_Goepfritz-c-Reinhard-Podolsky_min.jpg
GEO:48.7246831;15.4007603
X-APPLE-STRUCTURED-LOCATION;VALUE=URI;X-ADDRESS=Schloss Göpfritz an der Wild Kulturstadl Hauptstraße 72 Göpfritz 3800;X-APPLE-RADIUS=500;X-TITLE=Hauptstraße 72:geo:15.4007603,48.7246831
END:VEVENT
END:VCALENDAR