BEGIN:VCALENDAR
VERSION:2.0
PRODID:-//Österreichische Gesellschaft vom Goldenen Kreuze - ECPv6.15.9//NONSGML v1.0//EN
CALSCALE:GREGORIAN
METHOD:PUBLISH
X-ORIGINAL-URL:https://www.oeggk.at
X-WR-CALDESC:Veranstaltungen für Österreichische Gesellschaft vom Goldenen Kreuze
REFRESH-INTERVAL;VALUE=DURATION:PT1H
X-Robots-Tag:noindex
X-PUBLISHED-TTL:PT1H
BEGIN:VTIMEZONE
TZID:Europe/Vienna
BEGIN:DAYLIGHT
TZOFFSETFROM:+0100
TZOFFSETTO:+0200
TZNAME:CEST
DTSTART:20250330T010000
END:DAYLIGHT
BEGIN:STANDARD
TZOFFSETFROM:+0200
TZOFFSETTO:+0100
TZNAME:CET
DTSTART:20251026T010000
END:STANDARD
BEGIN:DAYLIGHT
TZOFFSETFROM:+0100
TZOFFSETTO:+0200
TZNAME:CEST
DTSTART:20260329T010000
END:DAYLIGHT
BEGIN:STANDARD
TZOFFSETFROM:+0200
TZOFFSETTO:+0100
TZNAME:CET
DTSTART:20261025T010000
END:STANDARD
BEGIN:DAYLIGHT
TZOFFSETFROM:+0100
TZOFFSETTO:+0200
TZNAME:CEST
DTSTART:20270328T010000
END:DAYLIGHT
BEGIN:STANDARD
TZOFFSETFROM:+0200
TZOFFSETTO:+0100
TZNAME:CET
DTSTART:20271031T010000
END:STANDARD
END:VTIMEZONE
BEGIN:VEVENT
DTSTART;TZID=Europe/Vienna:20260420T160000
DTEND;TZID=Europe/Vienna:20260420T170000
DTSTAMP:20260421T102622
CREATED:20251125T123036Z
LAST-MODIFIED:20251125T123402Z
UID:10001542-1776700800-1776704400@www.oeggk.at
SUMMARY:Wirbelsäulenturnen 2026 Kurs 1
DESCRIPTION:Halten Sie Ihren Rücken gesund und trainieren Sie bei unserem Wirbelsäulenturnen mit der diplomierten Physiotherapeutin Mag. Sigrid Bertagnoli Ihre Rückenmuskulatur! \nDie Kurse finden ab dem 9. Februar 2026 immer montags von 16-17 Uhr (Gruppe 1) in den Räumlichkeiten der ÖGGK statt. Am Ostermontag (06.04.2026) findet kein Kurs statt. \nDie konkreten Termine (14 Einheiten):\n09.02.2026\, 16.02.2026\, 23.02.2026\, 02.03.2026\, 09.03.2026\, 16.03.2026\, 23.03.2026\, 13.04.2026\, 20.04.2026\, 27.04.2026\, 04.05.2026\, 11.05.2026\, 18.05.2026 und 01.06.2026 \nKursbeitrag und wichtige Infos:\nKursbeitrag für 14 Einheiten: € 142.- Normalpreis bzw. € 122.- für Vereinsmitglieder \nWir bitten um Überweisung des Betrags vorab (ÖGGK\, AT76 3400 0000 0724 5673) mit Angabe der Zahlungsreferenz „Wirbelsäulenturnen“. Bitte beachten Sie\, dass Ihre Anmeldung verbindlich ist. Bei Verhinderung ist Ihr Platz an eine andere Person übertragbar\, eine Kostenrückerstattung ist nicht möglich. Es ist nur der gesamte Kurs buchbar (keine Einzelstunden). Bei Nichterreichen der Mindestteilnehmerzahl von 5 Personen werden die Kosten rückerstattet\, ebenso bei einer coronabedingten Absage.
URL:https://www.oeggk.at/veranstaltung/wirbelsaeulenturnen-2026-kurs-1-13/
LOCATION:Österreichische Gesellschaft vom Goldenen Kreuze\, Kärntner Str. 26/Marco-d'Aviano-G. 1\, Wien\, 1010\, Austria
CATEGORIES:Bewegung,Wiederkehrende
ATTACH;FMTTYPE=image/jpeg:https://www.oeggk.at/wp-content/uploads/2023/11/Wirbelsaeulenturnen-c-Drazen-Zigic-on-Freepik_web.jpg
ORGANIZER;CN="%C3%96sterreichische Gesellschaft vom Goldenen Kreuze":MAILTO:gesellschaft@oeggk.at
GEO:48.205189;16.3707967
X-APPLE-STRUCTURED-LOCATION;VALUE=URI;X-ADDRESS=Österreichische Gesellschaft vom Goldenen Kreuze Kärntner Str. 26/Marco-d'Aviano-G. 1 Wien 1010 Austria;X-APPLE-RADIUS=500;X-TITLE=Kärntner Str. 26/Marco-d'Aviano-G. 1:geo:16.3707967,48.205189
END:VEVENT
BEGIN:VEVENT
DTSTART;TZID=Europe/Vienna:20260413T170000
DTEND;TZID=Europe/Vienna:20260413T180000
DTSTAMP:20260421T102622
CREATED:20251125T124417Z
LAST-MODIFIED:20251125T124641Z
UID:10001565-1776099600-1776103200@www.oeggk.at
SUMMARY:Wirbelsäulenturnen 2026 Kurs 2
DESCRIPTION:Halten Sie Ihren Rücken gesund und trainieren Sie bei unserem Wirbelsäulenturnen mit der diplomierten Physiotherapeutin Mag. Sigrid Bertagnoli Ihre Rückenmuskulatur! \nDie Kurse finden ab dem 9. Februar 2026 immer montags von 17-18 Uhr (Gruppe 2) in den Räumlichkeiten der ÖGGK statt. Am Ostermontag (06.04.2026) findet kein Kurs statt. \nDie konkreten Termine (14 Einheiten):\n09.02.2026\, 16.02.2026\, 23.02.2026\, 02.03.2026\, 09.03.2026\, 16.03.2026\, 23.03.2026\, 13.04.2026\, 20.04.2026\, 27.04.2026\, 04.05.2026\, 11.05.2026\, 18.05.2026 und 01.06.2026 \nKursbeitrag und wichtige Infos:\nKursbeitrag für 14 Einheiten: € 142.- Normalpreis bzw. € 122.- für Vereinsmitglieder \nWir bitten um Überweisung des Betrags vorab (ÖGGK\, AT76 3400 0000 0724 5673) mit Angabe der Zahlungsreferenz „Wirbelsäulenturnen“. Bitte beachten Sie\, dass Ihre Anmeldung verbindlich ist. Bei Verhinderung ist Ihr Platz an eine andere Person übertragbar\, eine Kostenrückerstattung ist nicht möglich. Es ist nur der gesamte Kurs buchbar (keine Einzelstunden). Bei Nichterreichen der Mindestteilnehmerzahl von 5 Personen werden die Kosten rückerstattet\, ebenso bei einer coronabedingten Absage.
URL:https://www.oeggk.at/veranstaltung/wirbelsaeulenturnen-2026-kurs-2-10/
LOCATION:Österreichische Gesellschaft vom Goldenen Kreuze\, Kärntner Str. 26/Marco-d'Aviano-G. 1\, Wien\, 1010\, Austria
CATEGORIES:Bewegung,Wiederkehrende
ATTACH;FMTTYPE=image/jpeg:https://www.oeggk.at/wp-content/uploads/2023/11/Wirbelsaeulenturnen-c-Drazen-Zigic-on-Freepik_web.jpg
ORGANIZER;CN="%C3%96sterreichische Gesellschaft vom Goldenen Kreuze":MAILTO:gesellschaft@oeggk.at
GEO:48.205189;16.3707967
X-APPLE-STRUCTURED-LOCATION;VALUE=URI;X-ADDRESS=Österreichische Gesellschaft vom Goldenen Kreuze Kärntner Str. 26/Marco-d'Aviano-G. 1 Wien 1010 Austria;X-APPLE-RADIUS=500;X-TITLE=Kärntner Str. 26/Marco-d'Aviano-G. 1:geo:16.3707967,48.205189
END:VEVENT
BEGIN:VEVENT
DTSTART;TZID=Europe/Vienna:20260413T160000
DTEND;TZID=Europe/Vienna:20260413T170000
DTSTAMP:20260421T102622
CREATED:20251125T123035Z
LAST-MODIFIED:20251125T123350Z
UID:10001541-1776096000-1776099600@www.oeggk.at
SUMMARY:Wirbelsäulenturnen 2026 Kurs 1
DESCRIPTION:Halten Sie Ihren Rücken gesund und trainieren Sie bei unserem Wirbelsäulenturnen mit der diplomierten Physiotherapeutin Mag. Sigrid Bertagnoli Ihre Rückenmuskulatur! \nDie Kurse finden ab dem 9. Februar 2026 immer montags von 16-17 Uhr (Gruppe 1) in den Räumlichkeiten der ÖGGK statt. Am Ostermontag (06.04.2026) findet kein Kurs statt. \nDie konkreten Termine (14 Einheiten):\n09.02.2026\, 16.02.2026\, 23.02.2026\, 02.03.2026\, 09.03.2026\, 16.03.2026\, 23.03.2026\, 13.04.2026\, 20.04.2026\, 27.04.2026\, 04.05.2026\, 11.05.2026\, 18.05.2026 und 01.06.2026 \nKursbeitrag und wichtige Infos:\nKursbeitrag für 14 Einheiten: € 142.- Normalpreis bzw. € 122.- für Vereinsmitglieder \nWir bitten um Überweisung des Betrags vorab (ÖGGK\, AT76 3400 0000 0724 5673) mit Angabe der Zahlungsreferenz „Wirbelsäulenturnen“. Bitte beachten Sie\, dass Ihre Anmeldung verbindlich ist. Bei Verhinderung ist Ihr Platz an eine andere Person übertragbar\, eine Kostenrückerstattung ist nicht möglich. Es ist nur der gesamte Kurs buchbar (keine Einzelstunden). Bei Nichterreichen der Mindestteilnehmerzahl von 5 Personen werden die Kosten rückerstattet\, ebenso bei einer coronabedingten Absage.
URL:https://www.oeggk.at/veranstaltung/wirbelsaeulenturnen-2026-kurs-1-12/
LOCATION:Österreichische Gesellschaft vom Goldenen Kreuze\, Kärntner Str. 26/Marco-d'Aviano-G. 1\, Wien\, 1010\, Austria
CATEGORIES:Bewegung,Wiederkehrende
ATTACH;FMTTYPE=image/jpeg:https://www.oeggk.at/wp-content/uploads/2023/11/Wirbelsaeulenturnen-c-Drazen-Zigic-on-Freepik_web.jpg
ORGANIZER;CN="%C3%96sterreichische Gesellschaft vom Goldenen Kreuze":MAILTO:gesellschaft@oeggk.at
GEO:48.205189;16.3707967
X-APPLE-STRUCTURED-LOCATION;VALUE=URI;X-ADDRESS=Österreichische Gesellschaft vom Goldenen Kreuze Kärntner Str. 26/Marco-d'Aviano-G. 1 Wien 1010 Austria;X-APPLE-RADIUS=500;X-TITLE=Kärntner Str. 26/Marco-d'Aviano-G. 1:geo:16.3707967,48.205189
END:VEVENT
BEGIN:VEVENT
DTSTART;TZID=Europe/Vienna:20260409T183000
DTEND;TZID=Europe/Vienna:20260409T183000
DTSTAMP:20260421T102622
CREATED:20260303T111600Z
LAST-MODIFIED:20260303T125856Z
UID:10001754-1775759400-1775759400@www.oeggk.at
SUMMARY:Wunden und Wundmanagement
DESCRIPTION:Wunden und Wundmanagement\n« Alle Veranstaltungen \nDetails\n9. April 2026\n\,\n18:30 \nKosten:\nKostenlos \nVeranstalter\n\nÖsterreichische Gesellschaft vom Goldenen Kreuze \nTelefon:\n\n+43 1 996 80 92  \nE-Mail:\n\ngesellschaft@oeggk.at  \nVeranstaltungsort\n\nÖsterreichische Gesellschaft vom Goldenen Kreuze \nKärntner Str. 26/Marco-d’Aviano-G. 1\n1010\nWien\,\nAustria\nGoogle-Karte anzeigen \n \nAnmeldungen / Karten / Eintritt\n  \nKostenlose Anmeldung: Wunden und Wundmanagement\nDie Teilnahme ist frei! Wir bitten um Anmeldung. \n0\nTeilnehmer*innen\nMelden Sie sich hier an:\n\nTeilnehmen  \nVeranstaltung speichern\n\n\nZum Kalender hinzufügen \n  \n\nGoogle Kalender\niCalendar\nOutlook 365\nOutlook Live\n\nFoto © freepik \nWunden und Wundmanagement\nChronische Wunden bedeuten für viele Betroffene häufig Schmerzen\, körperliche Einschränkungen und Sorgen im Alltag. Sie wirken sich oft nicht nur physisch\, sondern auch psychisch aus\, da die ständige Pflege und das Risiko von Infektionen die Lebensqualität erheblich mindern können. Ziel eines professionellen Wundmanagements ist daher nicht nur eine möglichst schnelle und schonende Heilung der Wunden\, sondern vor allem die nachhaltige Verbesserung des persönlichen Wohlbefindens: weniger Schmerzen\, gesteigerte Beweglichkeit\, höhere Selbstständigkeit und mehr Lebensfreude im Alltag. \nFELIX MADAR\, Geschäftsführender Gesellschafter der Wundambulanz Therapie & Management GmbH\, informiert in seinem Vortrag über die unterschiedlichen Arten von Wunden\, die entscheidenden Faktoren der Wundheilung sowie über Behandlungskonzepte. Dabei geht er gezielt darauf ein\, wie diese individuell auf die Bedürfnisse der Patient:innen abgestimmt werden können\, um den Heilungsprozess bestmöglich zu fördern. \nDie Teilnahme ist frei! Wir freuen uns auf Ihre Anmeldung! \n\nVeranstaltungsfolder herunterladen\n \n\n\n\nLauftraining 2026 \n\nWirbelsäulenturnen für Osteoporose-Betroffene
URL:https://www.oeggk.at/veranstaltung/wunden-und-wundmanagement/
LOCATION:Österreichische Gesellschaft vom Goldenen Kreuze\, Kärntner Str. 26/Marco-d'Aviano-G. 1\, Wien\, 1010\, Austria
CATEGORIES:Vorträge und Seminare
ATTACH;FMTTYPE=image/jpeg:https://www.oeggk.at/wp-content/uploads/2026/03/8_Wundmanagement-c-freepik_web.jpg
ORGANIZER;CN="%C3%96sterreichische Gesellschaft vom Goldenen Kreuze":MAILTO:gesellschaft@oeggk.at
GEO:48.205189;16.3707967
X-APPLE-STRUCTURED-LOCATION;VALUE=URI;X-ADDRESS=Österreichische Gesellschaft vom Goldenen Kreuze Kärntner Str. 26/Marco-d'Aviano-G. 1 Wien 1010 Austria;X-APPLE-RADIUS=500;X-TITLE=Kärntner Str. 26/Marco-d'Aviano-G. 1:geo:16.3707967,48.205189
END:VEVENT
BEGIN:VEVENT
DTSTART;TZID=Europe/Vienna:20260323T160000
DTEND;TZID=Europe/Vienna:20260323T170000
DTSTAMP:20260421T102622
CREATED:20251125T123033Z
LAST-MODIFIED:20251125T123311Z
UID:10001539-1774281600-1774285200@www.oeggk.at
SUMMARY:Wirbelsäulenturnen 2026 Kurs 1
DESCRIPTION:Halten Sie Ihren Rücken gesund und trainieren Sie bei unserem Wirbelsäulenturnen mit der diplomierten Physiotherapeutin Mag. Sigrid Bertagnoli Ihre Rückenmuskulatur! \nDie Kurse finden ab dem 9. Februar 2026 immer montags von 16-17 Uhr (Gruppe 1) in den Räumlichkeiten der ÖGGK statt. Am Ostermontag (06.04.2026) findet kein Kurs statt. \nDie konkreten Termine (14 Einheiten):\n09.02.2026\, 16.02.2026\, 23.02.2026\, 02.03.2026\, 09.03.2026\, 16.03.2026\, 23.03.2026\, 13.04.2026\, 20.04.2026\, 27.04.2026\, 04.05.2026\, 11.05.2026\, 18.05.2026 und 01.06.2026 \nKursbeitrag und wichtige Infos:\nKursbeitrag für 14 Einheiten: € 142.- Normalpreis bzw. € 122.- für Vereinsmitglieder \nWir bitten um Überweisung des Betrags vorab (ÖGGK\, AT76 3400 0000 0724 5673) mit Angabe der Zahlungsreferenz „Wirbelsäulenturnen“. Bitte beachten Sie\, dass Ihre Anmeldung verbindlich ist. Bei Verhinderung ist Ihr Platz an eine andere Person übertragbar\, eine Kostenrückerstattung ist nicht möglich. Es ist nur der gesamte Kurs buchbar (keine Einzelstunden). Bei Nichterreichen der Mindestteilnehmerzahl von 5 Personen werden die Kosten rückerstattet\, ebenso bei einer coronabedingten Absage.
URL:https://www.oeggk.at/veranstaltung/wirbelsaeulenturnen-2026-kurs-1-10/
LOCATION:Österreichische Gesellschaft vom Goldenen Kreuze\, Kärntner Str. 26/Marco-d'Aviano-G. 1\, Wien\, 1010\, Austria
CATEGORIES:Bewegung,Wiederkehrende
ATTACH;FMTTYPE=image/jpeg:https://www.oeggk.at/wp-content/uploads/2023/11/Wirbelsaeulenturnen-c-Drazen-Zigic-on-Freepik_web.jpg
ORGANIZER;CN="%C3%96sterreichische Gesellschaft vom Goldenen Kreuze":MAILTO:gesellschaft@oeggk.at
GEO:48.205189;16.3707967
X-APPLE-STRUCTURED-LOCATION;VALUE=URI;X-ADDRESS=Österreichische Gesellschaft vom Goldenen Kreuze Kärntner Str. 26/Marco-d'Aviano-G. 1 Wien 1010 Austria;X-APPLE-RADIUS=500;X-TITLE=Kärntner Str. 26/Marco-d'Aviano-G. 1:geo:16.3707967,48.205189
END:VEVENT
END:VCALENDAR