BEGIN:VCALENDAR
VERSION:2.0
PRODID:-//Österreichische Gesellschaft vom Goldenen Kreuze - ECPv6.15.9//NONSGML v1.0//EN
CALSCALE:GREGORIAN
METHOD:PUBLISH
X-WR-CALNAME:Österreichische Gesellschaft vom Goldenen Kreuze
X-ORIGINAL-URL:https://www.oeggk.at
X-WR-CALDESC:Veranstaltungen für Österreichische Gesellschaft vom Goldenen Kreuze
REFRESH-INTERVAL;VALUE=DURATION:PT1H
X-Robots-Tag:noindex
X-PUBLISHED-TTL:PT1H
BEGIN:VTIMEZONE
TZID:Europe/Vienna
BEGIN:DAYLIGHT
TZOFFSETFROM:+0100
TZOFFSETTO:+0200
TZNAME:CEST
DTSTART:20250330T010000
END:DAYLIGHT
BEGIN:STANDARD
TZOFFSETFROM:+0200
TZOFFSETTO:+0100
TZNAME:CET
DTSTART:20251026T010000
END:STANDARD
BEGIN:DAYLIGHT
TZOFFSETFROM:+0100
TZOFFSETTO:+0200
TZNAME:CEST
DTSTART:20260329T010000
END:DAYLIGHT
BEGIN:STANDARD
TZOFFSETFROM:+0200
TZOFFSETTO:+0100
TZNAME:CET
DTSTART:20261025T010000
END:STANDARD
BEGIN:DAYLIGHT
TZOFFSETFROM:+0100
TZOFFSETTO:+0200
TZNAME:CEST
DTSTART:20270328T010000
END:DAYLIGHT
BEGIN:STANDARD
TZOFFSETFROM:+0200
TZOFFSETTO:+0100
TZNAME:CET
DTSTART:20271031T010000
END:STANDARD
END:VTIMEZONE
BEGIN:VEVENT
DTSTART;TZID=Europe/Vienna:20260326T183000
DTEND;TZID=Europe/Vienna:20260326T183000
DTSTAMP:20260422T133626
CREATED:20251205T115142Z
LAST-MODIFIED:20260320T074218Z
UID:37329-1774549800-1774549800@www.oeggk.at
SUMMARY:Bioidente Hormone
DESCRIPTION:Bioidente Hormone				\n				\n					\n		\n					\n		\n				\n						\n					\n			\n						\n				\n					\n	« Alle Veranstaltungen\n 				\n				\n				\n				\n					Diese Veranstaltung hat bereits stattgefunden. \n				\n				\n				\n						\n					\n			\n						\n				\n					Details				\n				\n				\n				\n					\n		\n			26. März 2026\n\n	\n\n	 \,  \n\n\n18:30\n\n			\n				\n				\n				\n				\n					\n	Kosten:\nKostenlos 				\n				\n				\n				\n					\n	\n\n	Kategorien:	\n		Vorträge und Seminare	\n\n				\n				\n				\n				\n							\n			\n		\n						\n				\n				\n				\n					Veranstalter				\n				\n				\n				\n					\n	\n			\n			Österreichische Gesellschaft vom Goldenen Kreuze			\n	\n\n	\n	\n\n	Telefon:\n					\n			+43 1 996 80 92			\n	 \n\n\n	\n	E-Mail:\n					\n			gesellschaft@oeggk.at			\n	 \n\n\n\n				\n				\n				\n				\n							\n			\n		\n						\n				\n				\n				\n					Veranstaltungsort				\n				\n				\n				\n					\n				\n				\n	\n			\n		Österreichische Gesellschaft vom Goldenen Kreuze			\n	\n	\n	\n\nKärntner Str. 26/Marco-d'Aviano-G. 1\n			1010\n\n		Wien\,\n\n\n\n\n	Austria\n\n\n\n\n	Google-Karte anzeigen \n\n\n	\n	 \n\n\n\n	\n\n		\n	\n				\n				\n				\n				\n							\n			\n		\n						\n				\n				\n				\n					Anmeldungen / Karten / Eintritt				\n				\n				\n				\n					Es sind keine Anmeldungen mehr möglich.				\n				\n				\n				\n							\n			\n		\n						\n				\n				\n				\n					Veranstaltung speichern				\n				\n				\n				\n					\n	\n		\n\n	\n	Zum Kalender hinzufügen	\n		\n	\n\n		\n			\n									\n	Google Kalender\n\n									\n	iCalendar\n\n									\n	Outlook 365\n\n									\n	Outlook Live\n\n							\n		\n\n		\n	\n\n				\n				\n					\n		\n				\n			\n						\n				\n					\n	\n				\n				\n				\n				\n									Foto © freepik 								\n				\n				\n				\n					Bioidente Hormone				\n				\n				\n				\n									Das körperliche und geistige Wohlbefinden wird wesentlich durch einen ausgewogenen Hormonhaushalt bestimmt. Besonders in den Wechseljahren der Frau\, aber ebenso im Älterwerden des Mannes\, kann es zu spürbaren hormonellen Verschiebungen kommen. Bioidentische Hormonkapseln nach dem Konzept von Dr. Volker Rimkus zielen darauf ab\, dieses Gleichgewicht zu unterstützen\, die natürlichen hormonellen Abläufe wieder in Balance zu bringen und so das Leben wieder lebenswerter zu machen. Die Bedeutung einer stabilen hormonellen Regulation betrifft Frauen wie Männer gleichermaßen und gewinnt mit zunehmendem Lebensalter an Wichtigkeit. Der Vortrag von DR. MED. BÄRBEL KULLIK verbindet die medizinischen\, psychologischen und naturheilkundlichen Ansätze zu einer integrativen Sichtweise und legt dabei besonderen Wert auf eine ganzheitliche Betrachtung von Körper und Geist. Ihre langjährige Erfahrung über verschiedene therapeutische Felder hinweg fließt in eine Praxis ein\, die Menschen dabei unterstützt\, Gesundheit und Lebensfreude nachhaltig zu fördern. 								\n				\n				\n				\n							\n			\n		\n						\n				\n					\n		\n					\n		\n					\n		\n					\n		\n				\n						\n					\n			\n						\n				\n									\n					\n						\n						\n							\n									Veranstaltungsfolder herunterladen\n					\n					\n				\n								\n				\n				\n						\n					\n			\n						\n				\n					\n	\n		\n\n				Lauftraining 2026	\n\n\n		\n	\n		Ausstellung: "Transsexual Revolution"
URL:https://www.oeggk.at/veranstaltung/bioidente-hormone/
LOCATION:Österreichische Gesellschaft vom Goldenen Kreuze\, Kärntner Str. 26/Marco-d'Aviano-G. 1\, Wien\, 1010\, Austria
CATEGORIES:Vorträge und Seminare
ATTACH;FMTTYPE=image/jpeg:https://www.oeggk.at/wp-content/uploads/2025/12/Bioidente-Hormone-Stockfoto.jpg
ORGANIZER;CN="%C3%96sterreichische Gesellschaft vom Goldenen Kreuze":MAILTO:gesellschaft@oeggk.at
GEO:48.205189;16.3707967
X-APPLE-STRUCTURED-LOCATION;VALUE=URI;X-ADDRESS=Österreichische Gesellschaft vom Goldenen Kreuze Kärntner Str. 26/Marco-d'Aviano-G. 1 Wien 1010 Austria;X-APPLE-RADIUS=500;X-TITLE=Kärntner Str. 26/Marco-d'Aviano-G. 1:geo:16.3707967,48.205189
END:VEVENT
END:VCALENDAR