BEGIN:VCALENDAR
VERSION:2.0
PRODID:-//Österreichische Gesellschaft vom Goldenen Kreuze - ECPv6.15.9//NONSGML v1.0//EN
CALSCALE:GREGORIAN
METHOD:PUBLISH
X-WR-CALNAME:Österreichische Gesellschaft vom Goldenen Kreuze
X-ORIGINAL-URL:https://www.oeggk.at
X-WR-CALDESC:Veranstaltungen für Österreichische Gesellschaft vom Goldenen Kreuze
REFRESH-INTERVAL;VALUE=DURATION:PT1H
X-Robots-Tag:noindex
X-PUBLISHED-TTL:PT1H
BEGIN:VTIMEZONE
TZID:Europe/Vienna
BEGIN:DAYLIGHT
TZOFFSETFROM:+0100
TZOFFSETTO:+0200
TZNAME:CEST
DTSTART:20250330T010000
END:DAYLIGHT
BEGIN:STANDARD
TZOFFSETFROM:+0200
TZOFFSETTO:+0100
TZNAME:CET
DTSTART:20251026T010000
END:STANDARD
BEGIN:DAYLIGHT
TZOFFSETFROM:+0100
TZOFFSETTO:+0200
TZNAME:CEST
DTSTART:20260329T010000
END:DAYLIGHT
BEGIN:STANDARD
TZOFFSETFROM:+0200
TZOFFSETTO:+0100
TZNAME:CET
DTSTART:20261025T010000
END:STANDARD
BEGIN:DAYLIGHT
TZOFFSETFROM:+0100
TZOFFSETTO:+0200
TZNAME:CEST
DTSTART:20270328T010000
END:DAYLIGHT
BEGIN:STANDARD
TZOFFSETFROM:+0200
TZOFFSETTO:+0100
TZNAME:CET
DTSTART:20271031T010000
END:STANDARD
END:VTIMEZONE
BEGIN:VEVENT
DTSTART;TZID=Europe/Vienna:20260426T120000
DTEND;TZID=Europe/Vienna:20260426T180000
DTSTAMP:20260424T150109
CREATED:20260323T080144Z
LAST-MODIFIED:20260409T102058Z
UID:38579-1777204800-1777226400@www.oeggk.at
SUMMARY:Family Health Day
DESCRIPTION:Tickets für den Family Health Day: https://luma.com/96da7ucg   Sie finden das ÖGGK Health Mobil öffentlich zugänglich (auch ohne Ticket für den Family Health Day) vor der Markterei – kostenlos und ohne Anmeldung. Jede/r ist willkommen. 
URL:https://www.oeggk.at/veranstaltung/family-health-day-cholesterin/
LOCATION:Markterei Markthalle\, Severingasse 7\, Wien\, 1090\, Austria
CATEGORIES:Cholesterin,Health Mobil
GEO:48.2225;16.3519
X-APPLE-STRUCTURED-LOCATION;VALUE=URI;X-ADDRESS=Markterei Markthalle Severingasse 7 Wien 1090 Austria;X-APPLE-RADIUS=500;X-TITLE=Severingasse 7:geo:16.3519,48.2225
END:VEVENT
END:VCALENDAR