BEGIN:VCALENDAR
VERSION:2.0
PRODID:-//Österreichische Gesellschaft vom Goldenen Kreuze - ECPv6.15.9//NONSGML v1.0//EN
CALSCALE:GREGORIAN
METHOD:PUBLISH
X-WR-CALNAME:Österreichische Gesellschaft vom Goldenen Kreuze
X-ORIGINAL-URL:https://www.oeggk.at
X-WR-CALDESC:Veranstaltungen für Österreichische Gesellschaft vom Goldenen Kreuze
REFRESH-INTERVAL;VALUE=DURATION:PT1H
X-Robots-Tag:noindex
X-PUBLISHED-TTL:PT1H
BEGIN:VTIMEZONE
TZID:Europe/Vienna
BEGIN:DAYLIGHT
TZOFFSETFROM:+0100
TZOFFSETTO:+0200
TZNAME:CEST
DTSTART:20250330T010000
END:DAYLIGHT
BEGIN:STANDARD
TZOFFSETFROM:+0200
TZOFFSETTO:+0100
TZNAME:CET
DTSTART:20251026T010000
END:STANDARD
BEGIN:DAYLIGHT
TZOFFSETFROM:+0100
TZOFFSETTO:+0200
TZNAME:CEST
DTSTART:20260329T010000
END:DAYLIGHT
BEGIN:STANDARD
TZOFFSETFROM:+0200
TZOFFSETTO:+0100
TZNAME:CET
DTSTART:20261025T010000
END:STANDARD
BEGIN:DAYLIGHT
TZOFFSETFROM:+0100
TZOFFSETTO:+0200
TZNAME:CEST
DTSTART:20270328T010000
END:DAYLIGHT
BEGIN:STANDARD
TZOFFSETFROM:+0200
TZOFFSETTO:+0100
TZNAME:CET
DTSTART:20271031T010000
END:STANDARD
END:VTIMEZONE
BEGIN:VEVENT
DTSTART;VALUE=DATE:20261008
DTEND;VALUE=DATE:20261009
DTSTAMP:20260424T145942
CREATED:20260129T122127Z
LAST-MODIFIED:20260129T122127Z
UID:37849-1791417600-1791503999@www.oeggk.at
SUMMARY:Health Makers Festival
DESCRIPTION:
URL:https://www.oeggk.at/veranstaltung/health-makers-festival/
LOCATION:Vienna Airport Conference & Innovation Center\, Tower Straße 3\, Schwechat\, 1300\, Austria
CATEGORIES:Cholesterin,Health Mobil
ORGANIZER;CN="%C3%96sterreichische Gesellschaft vom Goldenen Kreuze":MAILTO:gesellschaft@oeggk.at
GEO:48.1234328;16.5616774
X-APPLE-STRUCTURED-LOCATION;VALUE=URI;X-ADDRESS=Vienna Airport Conference & Innovation Center Tower Straße 3 Schwechat 1300 Austria;X-APPLE-RADIUS=500;X-TITLE=Tower Straße 3:geo:16.5616774,48.1234328
END:VEVENT
END:VCALENDAR