BEGIN:VCALENDAR
VERSION:2.0
PRODID:-//Österreichische Gesellschaft vom Goldenen Kreuze - ECPv6.15.9//NONSGML v1.0//EN
CALSCALE:GREGORIAN
METHOD:PUBLISH
X-WR-CALNAME:Österreichische Gesellschaft vom Goldenen Kreuze
X-ORIGINAL-URL:https://www.oeggk.at
X-WR-CALDESC:Veranstaltungen für Österreichische Gesellschaft vom Goldenen Kreuze
REFRESH-INTERVAL;VALUE=DURATION:PT1H
X-Robots-Tag:noindex
X-PUBLISHED-TTL:PT1H
BEGIN:VTIMEZONE
TZID:Europe/Vienna
BEGIN:DAYLIGHT
TZOFFSETFROM:+0100
TZOFFSETTO:+0200
TZNAME:CEST
DTSTART:20250330T010000
END:DAYLIGHT
BEGIN:STANDARD
TZOFFSETFROM:+0200
TZOFFSETTO:+0100
TZNAME:CET
DTSTART:20251026T010000
END:STANDARD
BEGIN:DAYLIGHT
TZOFFSETFROM:+0100
TZOFFSETTO:+0200
TZNAME:CEST
DTSTART:20260329T010000
END:DAYLIGHT
BEGIN:STANDARD
TZOFFSETFROM:+0200
TZOFFSETTO:+0100
TZNAME:CET
DTSTART:20261025T010000
END:STANDARD
BEGIN:DAYLIGHT
TZOFFSETFROM:+0100
TZOFFSETTO:+0200
TZNAME:CEST
DTSTART:20270328T010000
END:DAYLIGHT
BEGIN:STANDARD
TZOFFSETFROM:+0200
TZOFFSETTO:+0100
TZNAME:CET
DTSTART:20271031T010000
END:STANDARD
END:VTIMEZONE
BEGIN:VEVENT
DTSTART;TZID=Europe/Vienna:20260618T190000
DTEND;TZID=Europe/Vienna:20260618T220000
DTSTAMP:20260420T072537
CREATED:20260304T142859Z
LAST-MODIFIED:20260304T143313Z
UID:38406-1781809200-1781820000@www.oeggk.at
SUMMARY:Open House der ÖGGK
DESCRIPTION: \n\n								\n				\n					\n		\n					\n		\n				\n						\n					\n			\n						\n				\n					\n	Open House der ÖGGK				\n				\n					\n		\n					\n		\n				\n						\n					\n			\n						\n				\n					\n	« Alle Veranstaltungen\n 				\n				\n				\n						\n					\n			\n						\n				\n					Details				\n				\n				\n				\n					\n		\n			18. Juni 2026\n\n	\n\n	 \,  \n\n\n19:00\n\n		\n\n\n\n	\n	  -  \n\n22:00\n\n\n\n	\n				\n				\n				\n				\n					\n	Kosten:\nKostenlos 				\n				\n				\n				\n							\n			\n		\n						\n				\n				\n				\n					Veranstalter				\n				\n				\n				\n					\n	\n			\n			Österreichische Gesellschaft vom Goldenen Kreuze			\n	\n\n	\n	\n\n	Telefon:\n					\n			+43 1 996 80 92			\n	 \n\n\n	\n	E-Mail:\n					\n			gesellschaft@oeggk.at			\n	 \n\n\n\n				\n				\n				\n				\n							\n			\n		\n						\n				\n				\n				\n					Veranstaltungsort				\n				\n				\n				\n					\n				\n				\n	\n			\n		Österreichische Gesellschaft vom Goldenen Kreuze			\n	\n	\n	\n\nKärntner Str. 26/Marco-d'Aviano-G. 1\n			1010\n\n		Wien\,\n\n\n\n\n	Austria\n\n\n\n\n	Google-Karte anzeigen \n\n\n	\n	 \n\n\n\n	\n\n		\n	\n				\n				\n				\n				\n							\n			\n		\n						\n				\n				\n				\n					Anmeldungen / Karten / Eintritt				\n				\n				\n				\n					\n\n			\n			\n	\n	\n\n	\n	\n\n	\n	\n\n\n			\n\n\n	\n	\n\n		\n	\n		\n	Kostenlose Anmeldung: Open House\n\n		\n	NUR FÜR MITGLIEDER DER ÖSTERREICHISCHEN GESELLSCHAFT VOM GOLDENEN KREUZE!\nDie Teilnahme ist frei\, eine Anmeldung erforderlich. Wir freuen uns auf Ihr Kommen! \n\n\n		\n	\n		1	\n	\n		Teilnehmer*innen	\n\n\n		\n				\n	\n	\n\n\n		\n	\n\n		\n			\n	\n		Melden Sie sich hier an:	\n\n	\n\n	\n		Teilnehmen	\n\n\n	\n\n\n			\n\n\n\n		\n	\n\n	\n\n		\n	\n				\n				\n				\n				\n							\n			\n		\n						\n				\n				\n				\n					Veranstaltung speichern				\n				\n				\n				\n					\n	\n		\n\n	\n	Zum Kalender hinzufügen	\n		\n	\n\n		\n			\n									\n	Google Kalender\n\n									\n	iCalendar\n\n									\n	Outlook 365\n\n									\n	Outlook Live\n\n							\n		\n\n		\n	\n\n				\n				\n					\n		\n				\n			\n						\n				\n					\n	\n				\n				\n				\n				\n									Foto © Katharina Schiffl 								\n				\n				\n				\n					Open House				\n				\n				\n				\n									Die ÖSTERREICHISCHE GESELLSCHAFT VOM GOLDENEN KREUZE lädt ihre Mitglieder herzlich zu einem Open House in die Räumlichkeiten auf der Kärntner Straße in Wien ein. In entspannter und ge-mütlicher Atmosphäre können sie bei Getränken und kleinen Köstlichkeiten ins Gespräch kommen\, Ideen austauschen und sich über aktuelle Projekte informieren. Die Veranstaltung richtet sich exklusiv an unsere Mitglieder. Sie bietet Raum für persönliche Begeg-nungen\, angeregte Gespräche und den direkten Austausch mit dem Präsidium\, den Delegierten und anderen Mitgliedern. Gleichzeitig ist das Open House eine Gelegenheit\, die vielfältigen Aufgaben der ÖGGK besser zu verstehen und sich über Entwicklungen und Initiativen auszutauschen\, die den Ver-einsalltag und das Engagement der Mitglieder prägen. Freuen Sie sich auf einen Abend\, der ganz im Zeichen des Miteinanders steht – im Sinne des Leitgedan-kens der ÖGGK\, Gesundheit\, Engagement und Wohlbefinden als festen Bestandteil des Alltags zu för-dern und gemeinsam zu feiern.   Wir freuen uns auf Ihr Kommen! Bitte um Anmeldung! 								\n				\n				\n				\n							\n			\n		\n						\n				\n					\n		\n					\n		\n					\n		\n					\n		\n				\n						\n					\n			\n						\n				\n									\n					\n						\n						\n							\n									Veranstaltungsfolder herunterladen\n					\n					\n				\n								\n				\n				\n						\n					\n			\n						\n				\n					\n	\n		\n\n				Next Generation: „Klangquelle"	\n\n\n		\n	\n		Gruppentreffen der SHG KnochenKraft
URL:https://www.oeggk.at/veranstaltung/open-house-der-oeggk/
LOCATION:Österreichische Gesellschaft vom Goldenen Kreuze\, Kärntner Str. 26/Marco-d'Aviano-G. 1\, Wien\, 1010\, Austria
ATTACH;FMTTYPE=image/jpeg:https://www.oeggk.at/wp-content/uploads/2026/03/Herzlich-willkommen©KatharinaSchiffl_Web.jpg
ORGANIZER;CN="%C3%96sterreichische Gesellschaft vom Goldenen Kreuze":MAILTO:gesellschaft@oeggk.at
GEO:48.205189;16.3707967
X-APPLE-STRUCTURED-LOCATION;VALUE=URI;X-ADDRESS=Österreichische Gesellschaft vom Goldenen Kreuze Kärntner Str. 26/Marco-d'Aviano-G. 1 Wien 1010 Austria;X-APPLE-RADIUS=500;X-TITLE=Kärntner Str. 26/Marco-d'Aviano-G. 1:geo:16.3707967,48.205189
END:VEVENT
END:VCALENDAR