BEGIN:VCALENDAR
VERSION:2.0
PRODID:-//Österreichische Gesellschaft vom Goldenen Kreuze - ECPv6.15.9//NONSGML v1.0//EN
CALSCALE:GREGORIAN
METHOD:PUBLISH
X-WR-CALNAME:Österreichische Gesellschaft vom Goldenen Kreuze
X-ORIGINAL-URL:https://www.oeggk.at
X-WR-CALDESC:Veranstaltungen für Österreichische Gesellschaft vom Goldenen Kreuze
REFRESH-INTERVAL;VALUE=DURATION:PT1H
X-Robots-Tag:noindex
X-PUBLISHED-TTL:PT1H
BEGIN:VTIMEZONE
TZID:Europe/Vienna
BEGIN:DAYLIGHT
TZOFFSETFROM:+0100
TZOFFSETTO:+0200
TZNAME:CEST
DTSTART:20250330T010000
END:DAYLIGHT
BEGIN:STANDARD
TZOFFSETFROM:+0200
TZOFFSETTO:+0100
TZNAME:CET
DTSTART:20251026T010000
END:STANDARD
BEGIN:DAYLIGHT
TZOFFSETFROM:+0100
TZOFFSETTO:+0200
TZNAME:CEST
DTSTART:20260329T010000
END:DAYLIGHT
BEGIN:STANDARD
TZOFFSETFROM:+0200
TZOFFSETTO:+0100
TZNAME:CET
DTSTART:20261025T010000
END:STANDARD
BEGIN:DAYLIGHT
TZOFFSETFROM:+0100
TZOFFSETTO:+0200
TZNAME:CEST
DTSTART:20270328T010000
END:DAYLIGHT
BEGIN:STANDARD
TZOFFSETFROM:+0200
TZOFFSETTO:+0100
TZNAME:CET
DTSTART:20271031T010000
END:STANDARD
END:VTIMEZONE
BEGIN:VEVENT
DTSTART;TZID=Europe/Vienna:20260423T180000
DTEND;TZID=Europe/Vienna:20260423T180000
DTSTAMP:20260420T062119
CREATED:20260304T102244Z
LAST-MODIFIED:20260304T103146Z
UID:38338-1776967200-1776967200@www.oeggk.at
SUMMARY:Peers & Perspektiven
DESCRIPTION: \n\n								\n				\n					\n		\n					\n		\n				\n						\n					\n			\n						\n				\n					\n	Peers & Perspektiven				\n				\n					\n		\n					\n		\n				\n						\n					\n			\n						\n				\n					\n	« Alle Veranstaltungen\n 				\n				\n				\n						\n					\n			\n						\n				\n					Details				\n				\n				\n				\n					\n		\n			23. April 2026\n\n	\n\n	 \,  \n\n\n18:00\n\n			\n				\n				\n				\n				\n					\n	Kosten:\n€12\,0 – €16\,0 				\n				\n				\n				\n					\n	\n\n	Kategorien:	\n		Vorträge und Seminare	\n\n				\n				\n				\n				\n							\n			\n		\n						\n				\n				\n				\n					Veranstalter				\n				\n				\n				\n					\n	\n			\n			Österreichische Gesellschaft vom Goldenen Kreuze			\n	\n\n	\n	\n\n	Telefon:\n					\n			+43 1 996 80 92			\n	 \n\n\n	\n	E-Mail:\n					\n			gesellschaft@oeggk.at			\n	 \n\n\n\n				\n				\n				\n				\n							\n			\n		\n						\n				\n				\n				\n					Veranstaltungsort				\n				\n				\n				\n					\n				\n				\n	\n			\n		Österreichische Gesellschaft vom Goldenen Kreuze			\n	\n	\n	\n\nKärntner Str. 26/Marco-d'Aviano-G. 1\n			1010\n\n		Wien\,\n\n\n\n\n	Austria\n\n\n\n\n	Google-Karte anzeigen \n\n\n	\n	 \n\n\n\n	\n\n		\n	\n				\n				\n				\n				\n							\n			\n		\n						\n				\n				\n				\n					Anmeldungen / Karten / Eintritt				\n				\n				\n				\n					\n	\n\n		\n		\n		\n\n		\n\n\n		\n\n\n\n	Anmeldungen\n\n		\n	\n	\n		The numbers below include tickets for this event already in your cart. Clicking "Get Tickets" will allow you to edit any existing attendee information as well as change ticket quantities.	\n\n\n		\n\n	\n		\n				Anmeldung Normalpreis	\n\n\n\n\n	Tarif für alle\, die keine ÖGGK-Mitglieder sind\n\n\n	\n		\n		\n				\n					€\n					16\,0\n				\n						\n\n\n	\n\n\n	Unbegrenzte Teilnehmerzahl\n	\n\n\n	\n\n\n	\n			\n	Decrease ticket quantity for Anmeldung Normalpreis\n	-\n		\n\n	\n		Anzahl	\n	\n\n		\n	Increase ticket quantity for Anmeldung Normalpreis\n	+\n	\n\n	\n		\n	\n\n\n\n	\n		\n				Anmeldung für ÖGGK Mitglieder	\n\n\n\n\n	Ermäßigter Tarif für Vereinsmitglieder\n\n\n	\n		\n		\n				\n					€\n					12\,0\n				\n						\n\n\n	\n\n\n	Unbegrenzte Teilnehmerzahl\n	\n\n\n	\n\n\n	\n			\n	Decrease ticket quantity for Anmeldung für ÖGGK Mitglieder\n	-\n		\n\n	\n		Anzahl	\n	\n\n		\n	Increase ticket quantity for Anmeldung für ÖGGK Mitglieder\n	+\n	\n\n	\n		\n	\n\n\n		\n\n	\n	\n	\n		Anzahl: 	\n	0\n\n\n	\n	\n		Summe:	\n	\n		\n				\n					€\n					0\,0\n				\n				\n\n\n	\n	Anmelden\n\n\n\n		\n		\n	\n	\n\n	\n	\n\n	\n	\n\n\n\n			\n\n	\n\n\n				\n				\n				\n				\n							\n			\n		\n						\n				\n				\n				\n					Veranstaltung speichern				\n				\n				\n				\n					\n	\n		\n\n	\n	Zum Kalender hinzufügen	\n		\n	\n\n		\n			\n									\n	Google Kalender\n\n									\n	iCalendar\n\n									\n	Outlook 365\n\n									\n	Outlook Live\n\n							\n		\n\n		\n	\n\n				\n				\n					\n		\n				\n			\n						\n				\n					\n	\n				\n				\n				\n				\n									Foto © freepik 								\n				\n				\n				\n					Peers & Perspektiven				\n				\n				\n				\n									Viele Expertinnen und Experten aus dem Gesundheitsbereich der Babyboomer-Generation erleben rund um ihren Pensionsbeginn eine Zeit der Neuorientierung. Nach vielen Jahren im Beruf besteht das Bedürfnis\, weiterhin engagiert zu bleiben – fachlich\, sozial oder im gesellschaftlichen Kontext. Genau an diesem Punkt setzt das Netzwerk Peers & Perspektiven an\, das sich gezielt an Personen ab 55 wendet\, die im Gesundheitswesen gearbeitet haben oder noch tätig sind. Doch weshalb ist eine derartige Plattform notwendig? Welche Chancen liegen in der Erfahrung dieser Generation? Und auf welche Weise lässt sich der Schritt vom aktiven Berufsleben in den Ruhestand bewusst gestalten? Diese Themen bilden den Kern der Initiative\, die von der ÖGGK unterstützt wird.Ein inspirierender Ansatz für alle\, die den Ruhestand nicht als Ende\, sondern als Möglichkeit verstehen. DR. WOLFGANG ANDIEL ist Lead Public Affairs bei Sandoz GmbH und Präsident des Österreichischen Generikaverbandes. Er engagiert sich als Initiator von Peers & Perspektiven für die Sichtbarkeit und Vernetzung dieser Zielgruppe. 								\n				\n				\n				\n									Wir freuen uns auf Ihre Anmeldung! 								\n				\n				\n				\n							\n			\n		\n						\n				\n					\n		\n					\n		\n					\n		\n					\n		\n				\n						\n					\n			\n						\n				\n									\n					\n						\n						\n							\n									Veranstaltungsfolder herunterladen\n					\n					\n				\n								\n				\n				\n						\n					\n			\n						\n				\n					\n	\n		\n\n				Lauftraining 2026	\n\n\n		\n	\n		Wirbelsäulenturnen für Osteoporose-Betroffene
URL:https://www.oeggk.at/veranstaltung/peers-perspektiven_apr26/
LOCATION:Österreichische Gesellschaft vom Goldenen Kreuze\, Kärntner Str. 26/Marco-d'Aviano-G. 1\, Wien\, 1010\, Austria
CATEGORIES:Vorträge und Seminare
ATTACH;FMTTYPE=image/jpeg:https://www.oeggk.at/wp-content/uploads/2025/07/Networking-c-freepik_web.jpg
ORGANIZER;CN="%C3%96sterreichische Gesellschaft vom Goldenen Kreuze":MAILTO:gesellschaft@oeggk.at
GEO:48.205189;16.3707967
X-APPLE-STRUCTURED-LOCATION;VALUE=URI;X-ADDRESS=Österreichische Gesellschaft vom Goldenen Kreuze Kärntner Str. 26/Marco-d'Aviano-G. 1 Wien 1010 Austria;X-APPLE-RADIUS=500;X-TITLE=Kärntner Str. 26/Marco-d'Aviano-G. 1:geo:16.3707967,48.205189
END:VEVENT
END:VCALENDAR