BEGIN:VCALENDAR
VERSION:2.0
PRODID:-//Österreichische Gesellschaft vom Goldenen Kreuze - ECPv6.15.9//NONSGML v1.0//EN
CALSCALE:GREGORIAN
METHOD:PUBLISH
X-WR-CALNAME:Österreichische Gesellschaft vom Goldenen Kreuze
X-ORIGINAL-URL:https://www.oeggk.at
X-WR-CALDESC:Veranstaltungen für Österreichische Gesellschaft vom Goldenen Kreuze
REFRESH-INTERVAL;VALUE=DURATION:PT1H
X-Robots-Tag:noindex
X-PUBLISHED-TTL:PT1H
BEGIN:VTIMEZONE
TZID:Europe/Vienna
BEGIN:DAYLIGHT
TZOFFSETFROM:+0100
TZOFFSETTO:+0200
TZNAME:CEST
DTSTART:20250330T010000
END:DAYLIGHT
BEGIN:STANDARD
TZOFFSETFROM:+0200
TZOFFSETTO:+0100
TZNAME:CET
DTSTART:20251026T010000
END:STANDARD
BEGIN:DAYLIGHT
TZOFFSETFROM:+0100
TZOFFSETTO:+0200
TZNAME:CEST
DTSTART:20260329T010000
END:DAYLIGHT
BEGIN:STANDARD
TZOFFSETFROM:+0200
TZOFFSETTO:+0100
TZNAME:CET
DTSTART:20261025T010000
END:STANDARD
BEGIN:DAYLIGHT
TZOFFSETFROM:+0100
TZOFFSETTO:+0200
TZNAME:CEST
DTSTART:20270328T010000
END:DAYLIGHT
BEGIN:STANDARD
TZOFFSETFROM:+0200
TZOFFSETTO:+0100
TZNAME:CET
DTSTART:20271031T010000
END:STANDARD
END:VTIMEZONE
BEGIN:VEVENT
DTSTART;TZID=Europe/Vienna:20260512T180000
DTEND;TZID=Europe/Vienna:20260512T180000
DTSTAMP:20260420T073803
CREATED:20250304T110121Z
LAST-MODIFIED:20260304T140252Z
UID:37306-1778608800-1778608800@www.oeggk.at
SUMMARY:Psychotherapie im Gespräch: Innere Resilienz stärken
DESCRIPTION:Psychotherapie im Gespräch: Innere Resilienz stärken				\n				\n					\n		\n					\n		\n				\n						\n					\n			\n						\n				\n					\n	« Alle Veranstaltungen\n 				\n				\n				\n						\n					\n			\n						\n				\n					Details				\n				\n				\n				\n					\n		\n			12. Mai 2026\n\n	\n\n	 \,  \n\n\n18:00\n\n			\n				\n				\n				\n				\n					\n	Kosten:\nKostenlos 				\n				\n				\n				\n					\n	\n\n	Kategorien:	\n		Vorträge und Seminare	\n\n				\n				\n				\n				\n							\n			\n		\n						\n				\n				\n				\n					Veranstalter				\n				\n				\n				\n					\n	\n			\n			Österreichische Gesellschaft vom Goldenen Kreuze			\n	\n\n	\n	\n\n	Telefon:\n					\n			+43 1 996 80 92			\n	 \n\n\n	\n	E-Mail:\n					\n			gesellschaft@oeggk.at			\n	 \n\n\n\n				\n				\n				\n				\n							\n			\n		\n						\n				\n				\n				\n					Veranstaltungsort				\n				\n				\n				\n					\n				\n				\n	\n			\n		Österreichische Gesellschaft vom Goldenen Kreuze			\n	\n	\n	\n\nKärntner Str. 26/Marco-d'Aviano-G. 1\n			1010\n\n		Wien\,\n\n\n\n\n	Austria\n\n\n\n\n	Google-Karte anzeigen \n\n\n	\n	 \n\n\n\n	\n\n		\n	\n				\n				\n				\n				\n							\n			\n		\n						\n				\n				\n				\n					Anmeldungen / Karten / Eintritt				\n				\n				\n				\n					\n\n			\n			\n	\n	\n\n	\n	\n\n	\n	\n\n\n			\n\n\n	\n	\n\n		\n	\n		\n	Kostenlose Anmeldung\n\n		\n	Die Teilnahme ist frei\, eine Anmeldung ist erforderlich. Wir freuen uns auf Ihr Kommen! \n\n\n		\n	\n		17	\n	\n		Teilnehmer*innen	\n\n\n		\n				\n	\n	\n\n\n		\n	\n\n		\n			\n	\n		Melden Sie sich hier an:	\n\n	\n\n	\n		Teilnehmen	\n\n\n	\n\n\n			\n\n\n\n		\n	\n\n	\n\n		\n	\n				\n				\n				\n				\n							\n			\n		\n						\n				\n				\n				\n					Veranstaltung speichern				\n				\n				\n				\n					\n	\n		\n\n	\n	Zum Kalender hinzufügen	\n		\n	\n\n		\n			\n									\n	Google Kalender\n\n									\n	iCalendar\n\n									\n	Outlook 365\n\n									\n	Outlook Live\n\n							\n		\n\n		\n	\n\n				\n				\n					\n		\n				\n			\n						\n				\n					\n	\n				\n				\n				\n				\n									Foto © Clemens Hausmann 								\n				\n				\n				\n					Psychotherapie im Gespräch: Liebe frei von Mitgefühl				\n				\n				\n				\n									Resilienz ist die Fähigkeit\, nach schweren Belastungen wieder ins Gleichgewicht zu kommen\, Krisen zu bewältigen und sich insgesamt positiv weiterzuentwickeln. Sie beschreibt jene innere Widerstandskraft\, die es Menschen ermöglicht\, Rückschläge nicht nur zu verkraften\, sondern sogar gestärkt aus ihnen hervorzugehen. In seinem Vortrag\, im Rahmen der von LARA-ANDREA VRANEK initiierten Reihe „Psychotherapie im Gespräch“\, erläutert Prof. Dr. Clemens Hausmann\, wovon die eigene Widerstandskraft abhängt. Dabei geht er zentralen Fragen nach: Können auch Familien\, Teams oder größere Gemeinschaften resilient sein? Und vor allem – wie lässt sich Resilienz im Alltag wie auch im Berufsleben konkret fördern und langfristig stärken? PROF. DR. CLEMENS HAUSMANN ist klinischer Psychologe am Kardinal Schwarzenberg Klinikum in Schwarzach im Pongau und in eigener Praxis\, Lehrbeauftragter der Universität Salzburg und der FH Gesundheitsberufe OÖ sowie Autor mehrerer Fachbücher. Er führt seit vielen Jahren Workshops zum Thema „Die Resilienz stärken“ durch. Die Teilnahme ist frei. Wir freuen uns auf Ihre Anmeldung! 								\n				\n				\n				\n							\n			\n		\n						\n				\n				\n				\n							\n							\n					\n													\n															\n								\n														\n												Mehr zu unserer Vortragsreihe „Psychotherapie im Gespräch“\n					\n					Die stetig wachsende Anzahl seelisch leidender und psychisch kranker Menschen hat mich in meiner Verantwortung als Kooperationspsychotherapeutin der ÖGGK dazu motiviert die Vortragsreihe „Psychotherapie im Gespräch“ zu konzipieren.Die Veranstaltungsreihe wird\, mit ausgewählten hochrangigen ExpertInnen\, unterschiedliche Fachrichtungen\, Zugänge\, Sichtweisen und Fragestellungen zum Thema psychische Gesundheit und Psychotherapie vorstellen. Jeweils ein Impulsvortrag\, darauf bezogene Fachfragen sowie ein anschließendes Publikumsgespräch bieten die Möglichkeit sich über das Thema seelische Gesundheit zu informieren und zu reflektieren.Damit soll mit „Psychotherapie im Gespräch“ dem Auftrag der ÖGGK entsprechend die Gesundheitsförderung in der Gesellschaft gestärkt werden. Seien Sie herzlich willkommen!Lara-Andrea Vranek\, Personzentrierte Psychotherapeutin \n				\n								\n						\n				\n					\n		\n					\n		\n					\n		\n					\n		\n				\n						\n					\n			\n						\n				\n									\n					\n						\n						\n							\n									Veranstaltungsfolder herunterladen\n					\n					\n				\n								\n				\n				\n						\n					\n			\n						\n				\n					\n	\n		\n\n				Ausstellung: "Transsexual Revolution"	\n\n\n		\n	\n		Gruppentreffen der SHG KnochenKraft
URL:https://www.oeggk.at/veranstaltung/resilienz/
LOCATION:Österreichische Gesellschaft vom Goldenen Kreuze\, Kärntner Str. 26/Marco-d'Aviano-G. 1\, Wien\, 1010\, Austria
CATEGORIES:Vorträge und Seminare
ATTACH;FMTTYPE=image/jpeg:https://www.oeggk.at/wp-content/uploads/2025/12/20260512-Dr-Hausmann-c-privat_1200x800_web.jpg
ORGANIZER;CN="%C3%96sterreichische Gesellschaft vom Goldenen Kreuze":MAILTO:gesellschaft@oeggk.at
GEO:48.205189;16.3707967
X-APPLE-STRUCTURED-LOCATION;VALUE=URI;X-ADDRESS=Österreichische Gesellschaft vom Goldenen Kreuze Kärntner Str. 26/Marco-d'Aviano-G. 1 Wien 1010 Austria;X-APPLE-RADIUS=500;X-TITLE=Kärntner Str. 26/Marco-d'Aviano-G. 1:geo:16.3707967,48.205189
END:VEVENT
END:VCALENDAR