BEGIN:VCALENDAR
VERSION:2.0
PRODID:-//Österreichische Gesellschaft vom Goldenen Kreuze - ECPv6.15.9//NONSGML v1.0//EN
CALSCALE:GREGORIAN
METHOD:PUBLISH
X-WR-CALNAME:Österreichische Gesellschaft vom Goldenen Kreuze
X-ORIGINAL-URL:https://www.oeggk.at
X-WR-CALDESC:Veranstaltungen für Österreichische Gesellschaft vom Goldenen Kreuze
REFRESH-INTERVAL;VALUE=DURATION:PT1H
X-Robots-Tag:noindex
X-PUBLISHED-TTL:PT1H
BEGIN:VTIMEZONE
TZID:Europe/Vienna
BEGIN:DAYLIGHT
TZOFFSETFROM:+0100
TZOFFSETTO:+0200
TZNAME:CEST
DTSTART:20250330T010000
END:DAYLIGHT
BEGIN:STANDARD
TZOFFSETFROM:+0200
TZOFFSETTO:+0100
TZNAME:CET
DTSTART:20251026T010000
END:STANDARD
BEGIN:DAYLIGHT
TZOFFSETFROM:+0100
TZOFFSETTO:+0200
TZNAME:CEST
DTSTART:20260329T010000
END:DAYLIGHT
BEGIN:STANDARD
TZOFFSETFROM:+0200
TZOFFSETTO:+0100
TZNAME:CET
DTSTART:20261025T010000
END:STANDARD
BEGIN:DAYLIGHT
TZOFFSETFROM:+0100
TZOFFSETTO:+0200
TZNAME:CEST
DTSTART:20270328T010000
END:DAYLIGHT
BEGIN:STANDARD
TZOFFSETFROM:+0200
TZOFFSETTO:+0100
TZNAME:CET
DTSTART:20271031T010000
END:STANDARD
END:VTIMEZONE
BEGIN:VEVENT
DTSTART;TZID=Europe/Vienna:20260609T160000
DTEND;TZID=Europe/Vienna:20260609T160000
DTSTAMP:20260425T124810
CREATED:20260307T140336Z
LAST-MODIFIED:20260323T120831Z
UID:38395-1781020800-1781020800@www.oeggk.at
SUMMARY:Verstecktes Wien: Literarisches Wien
DESCRIPTION:Verstecktes Wien: Literarisches Wien				\n				\n					\n		\n					\n		\n				\n						\n					\n			\n						\n				\n					\n	« Alle Veranstaltungen\n 				\n				\n				\n						\n					\n			\n						\n				\n					Details				\n				\n				\n				\n					\n		\n			9. Juni 2026\n\n	\n\n	 \,  \n\n\n16:00\n\n			\n				\n				\n				\n				\n					\n	Kosten:\n€12\,0 – €15\,0 				\n				\n				\n				\n					\n	\n\n	Kategorien:	\n		„Verstecktes Wien“\, Kunst und Kultur	\n\n				\n				\n				\n				\n							\n			\n		\n						\n				\n				\n				\n					Veranstalter				\n				\n				\n				\n					\n	\n			\n			Österreichische Schlaganfall-Gesellschaft			\n	\n\n	\n	\n\n	Telefon:\n					\n						\n	 \n\n\n	\n	E-Mail:\n					\n						\n	 \n\n\n\n				\n				\n				\n				\n							\n			\n		\n						\n				\n				\n				\n					Veranstaltungsort				\n				\n				\n				\n					\n				\n				\n	\n			\n		Schwedenplatz			\n	\n	\n	\n\nSchwedenplatz\n			1010\n\n		Wien\,\n\n\n\n\n	Austria\n\n\n\n\n	Google-Karte anzeigen \n\n\n	\n	 \n\n\n\n	\n\n		\n	\n				\n				\n				\n				\n							\n			\n		\n						\n				\n				\n				\n					Anmeldungen / Karten / Eintritt				\n				\n				\n				\n					\n	\n\n		\n		\n		\n\n		\n\n\n		\n\n\n\n	Anmeldungen\n\n		\n	\n	\n		The numbers below include tickets for this event already in your cart. Clicking "Get Tickets" will allow you to edit any existing attendee information as well as change ticket quantities.	\n\n\n		\n		\n		\n	\n		Keine Anmeldung mehr möglich.	\n\n\n		\n	\n	\n\n	\n	\n\n	\n	\n\n\n\n			\n\n	\n\n\n				\n				\n				\n				\n							\n			\n		\n						\n				\n				\n				\n					Veranstaltung speichern				\n				\n				\n				\n					\n	\n		\n\n	\n	Zum Kalender hinzufügen	\n		\n	\n\n		\n			\n									\n	Google Kalender\n\n									\n	iCalendar\n\n									\n	Outlook 365\n\n									\n	Outlook Live\n\n							\n		\n\n		\n	\n\n				\n				\n					\n		\n				\n			\n						\n				\n					\n	\n				\n				\n				\n				\n									Foto © Österreich-Werbung\, Popp-Hackner 								\n				\n				\n				\n					"Verstecktes Wien": Literarischer Spaziergang				\n				\n				\n				\n									Dieser literarische Spaziergang lädt die Teilnehmer:innen dazu ein\, Wien aus überraschenden und un-gewohnten Blickwinkeln zu entdecken. Vom sagenumwobenen Lieben Augustin über den unverwech-selbaren Helmut Qualtinger bis hin zu Hans Weigl\, Sissy Kramer und der berühmten Kaiserin Elisabeth entfaltet sich eine abwechslungsreiche Folge bekannter und weniger bekannter Persönlichkeiten\, de-ren Geschichten und Schicksale die Stadt in neuem Licht erscheinen lassen. Zwischen mittelalterlichen Sagen und habsburgischem Mythos begegnet man Künstlerinnen und Künstlern\, die Geschichte und Gegenwart immer wieder neu deuteten\, ebenso wie exzentrischen Kaffeehausliteraten und scharfsin-nigen Kritikerinnen und Kritikern und humorvollen Beobachtern des Wiener Lebens. Eine Prise Kaba-rett und sogar ein kleines Stück Hollywood dürfen dabei ebenso wenig fehlen wie die unverwechselba-re Atmosphäre\, die Wien auszeichnet. Die Führung findet im Rahmen der Reihe VERSTECKTES WIEN statt und wird von DR. FREDERIKE STERN begleitet. TREFFPUNKT: Schwedenplatz vor dem Eissalon\, Aufgang HafnersteigEnde: beim Volksgarten   								\n				\n				\n				\n									Eintritt\, Führung und wichtige InfosDie Teilnehmeranzahl ist limitiert! Melden Sie sich am besten gleich an! Kosten für Eintritt und Führung: € 15.- bzw. € 12.- für Mitglieder.Beim Kauf mehrerer Karten gewähren wir schon ab 2 Tickets vergünstigte Preise (siehe Infoblatt unten). Der Rabatt wird im Warenkorb abgezogen. Begleitpersonen von Mitgliedern können ebenfalls zum ermäßigten Mitgliedertarif teilnehmen\, sofern sie mit dem Mitglied gemeinsam an der Führung teilnehmen (einfach mehrere Mitgliederkarten kaufen). Bei Verhinderung ist rechtzeitig (24 Stunden) abzusagen\, ansonsten müssen Eintritt und Führung verrechnet werden. 								\n				\n				\n				\n									\n					\n						\n						\n							\n									Infoblatt herunterladen\n					\n					\n				\n								\n				\n				\n				\n									Blöcke kaufen und jetzt gleich anmelden!\nUnsere Blöcke sind 12 Monate gültig\, auf Anfrage ist eine Verlängerung vorbehaltlich möglich.Die Blöcke sind übertragbar und nicht personenbezogen. \nFür die Teilnahme an den Führungen ist eine Anmeldung über unser Generalsekretariat (Tel. 01/996 80 92\, E-Mail: gesellschaft@oeggk.at) erforderlich! 								\n				\n				\n				\n					\n	\n		\n	\n				\n						\n	\n		Blöcke für Vereinsmitglieder	\n\n			\n						€ 21\,6  –  € 63\,0Preisspanne: € 21\,6 bis € 63\,0\n						\n						Ausführung wählen					\n			\n								\n			\n\n\n	\n				\n						\n	\n		Blöcke für Nicht-Mitglieder	\n\n			\n						€ 27\,0  –  € 79\,1Preisspanne: € 27\,0 bis € 79\,1\n						\n						Ausführung wählen					\n			\n								\n			\n\n	\n	\n				\n				\n				\n				\n									\n					\n						\n						\n							\n									Zu allen "Versteckes Wien"-Terminen\n					\n					\n				\n								\n				\n				\n				\n							\n			\n		\n						\n				\n					\n		\n					\n		\n					\n		\n					\n		\n				\n						\n					\n			\n						\n				\n									\n					\n						\n						\n							\n									Veranstaltungsfolder herunterladen\n					\n					\n				\n								\n				\n				\n						\n					\n			\n						\n				\n					\n	\n		\n\n				Ausstellung: "Transsexual Revolution"	\n\n\n		\n	\n		Ausstellung: "Transsexual Revolution"
URL:https://www.oeggk.at/veranstaltung/verstecktes-wien-literarisches-wien/
LOCATION:Schwedenplatz\, Schwedenplatz\, Wien\, 1010\, Austria
CATEGORIES:„Verstecktes Wien“,Kunst und Kultur
ATTACH;FMTTYPE=image/jpeg:https://www.oeggk.at/wp-content/uploads/2026/03/22_00000031585_Ueber-dem-Volksgarten_Oesterreich-Werbung_Popp-Hackner_web.jpg
GEO:48.2112768;16.378547
X-APPLE-STRUCTURED-LOCATION;VALUE=URI;X-ADDRESS=Schwedenplatz Schwedenplatz Wien 1010 Austria;X-APPLE-RADIUS=500;X-TITLE=Schwedenplatz:geo:16.378547,48.2112768
END:VEVENT
END:VCALENDAR