BEGIN:VCALENDAR
VERSION:2.0
PRODID:-//Österreichische Gesellschaft vom Goldenen Kreuze - ECPv6.15.9//NONSGML v1.0//EN
CALSCALE:GREGORIAN
METHOD:PUBLISH
X-WR-CALNAME:Österreichische Gesellschaft vom Goldenen Kreuze
X-ORIGINAL-URL:https://www.oeggk.at
X-WR-CALDESC:Veranstaltungen für Österreichische Gesellschaft vom Goldenen Kreuze
REFRESH-INTERVAL;VALUE=DURATION:PT1H
X-Robots-Tag:noindex
X-PUBLISHED-TTL:PT1H
BEGIN:VTIMEZONE
TZID:Europe/Vienna
BEGIN:DAYLIGHT
TZOFFSETFROM:+0100
TZOFFSETTO:+0200
TZNAME:CEST
DTSTART:20250330T010000
END:DAYLIGHT
BEGIN:STANDARD
TZOFFSETFROM:+0200
TZOFFSETTO:+0100
TZNAME:CET
DTSTART:20251026T010000
END:STANDARD
BEGIN:DAYLIGHT
TZOFFSETFROM:+0100
TZOFFSETTO:+0200
TZNAME:CEST
DTSTART:20260329T010000
END:DAYLIGHT
BEGIN:STANDARD
TZOFFSETFROM:+0200
TZOFFSETTO:+0100
TZNAME:CET
DTSTART:20261025T010000
END:STANDARD
BEGIN:DAYLIGHT
TZOFFSETFROM:+0100
TZOFFSETTO:+0200
TZNAME:CEST
DTSTART:20270328T010000
END:DAYLIGHT
BEGIN:STANDARD
TZOFFSETFROM:+0200
TZOFFSETTO:+0100
TZNAME:CET
DTSTART:20271031T010000
END:STANDARD
END:VTIMEZONE
BEGIN:VEVENT
DTSTART;TZID=Europe/Vienna:20260510T130000
DTEND;TZID=Europe/Vienna:20260510T130000
DTSTAMP:20260422T125740
CREATED:20260304T184553Z
LAST-MODIFIED:20260305T081437Z
UID:38425-1778418000-1778418000@www.oeggk.at
SUMMARY:Wings for Life Run
DESCRIPTION:Wings for Life Run				\n				\n					\n		\n					\n		\n				\n						\n					\n			\n						\n				\n					\n	« Alle Veranstaltungen\n 				\n				\n				\n						\n					\n			\n						\n				\n					Details				\n				\n				\n				\n					\n		\n			10. Mai 2026\n\n	\n\n	 \,  \n\n\n13:00\n\n			\n				\n				\n				\n				\n					\n	Kosten:\nKostenlos 				\n				\n				\n				\n					\n	\n\n	Kategorien:	\n		Bewegung	\n\n				\n				\n				\n				\n					\n	\n	Website:	\n	https://www.wingsforlifeworldrun.com/de/locations/app\n\n				\n				\n				\n				\n							\n			\n		\n						\n				\n				\n				\n					Veranstalter				\n				\n				\n				\n							\n			\n		\n						\n				\n				\n				\n					Veranstaltungsort				\n				\n				\n				\n							\n			\n		\n						\n				\n				\n				\n					Anmeldungen / Karten / Eintritt				\n				\n				\n				\n					\n\n			\n			\n	\n	\n\n	\n	\n\n	\n	\n\n\n			\n\n\n	\n	\n\n		\n	\n		\n	Kostenlose Anmeldung\n\n		\n	Wir bitten um Ihre Anmeldung bis zum 7. Mai 2026.\nTeilnahme in der Wings For Life Run App \n\n\n		\n	\n		13	\n	\n		Teilnehmer*innen	\n\n\n		\n				\n	\n	\n\n\n		\n	\n\n		\n			\n	\n		Melden Sie sich hier an:	\n\n	\n\n	\n		Teilnehmen	\n\n\n	\n\n\n			\n\n\n\n		\n	\n\n	\n\n		\n	\n				\n				\n				\n				\n							\n			\n		\n						\n				\n				\n				\n					Veranstaltung speichern				\n				\n				\n				\n					\n	\n		\n\n	\n	Zum Kalender hinzufügen	\n		\n	\n\n		\n			\n									\n	Google Kalender\n\n									\n	iCalendar\n\n									\n	Outlook 365\n\n									\n	Outlook Live\n\n							\n		\n\n		\n	\n\n				\n				\n					\n		\n				\n			\n						\n				\n					\n	\n				\n				\n				\n				\n									Foto © ÖGGK 								\n				\n				\n				\n					Wings For Life Run Via App				\n				\n				\n				\n									Beim Wings for Life World Run starten alle Teilnehmer:innen weltweit zur selben Zeit. Dabei ist es unwichtig\, ob man Spitzensportler:in\, Hobbyläufer:in oder Lauf-Anfänger:in ist. Eine physische Ziellinie gibt es nämlich nicht. Stattdessen setzt sich 30 Minuten nach dem Start das sogenannte Catcher Car in Bewegung und überholt die Läufer:innen und Rollstuhlfahrer:innen nach und nach. Das Beste: Alle Startgelder und Spenden fließen zu 100 % in die Rückenmarksforschung und helfen dabei\, Quer-schnittslähmung zu heilen. Der Wings for Life Run ist eine der größten Laufveranstaltungen der Welt und konnte bereits 344 Forschungsprojekte unterstützen. Im Sinne der gemeinnützigen Gesundheitsförderung möchten wir Sie einladen\, mit uns gemeinsam am App-Run teilzunehmen! Mit der App können Sie beim Wings for Life World Run dabei sein\, wo immer Sie sind. Die App hält Sie dabei auf dem Laufenden\, unterhält und motiviert. Die Teilnahme ist kostenlos. Ein Teil der Startplätze ist für Mitglieder der ÖGGK und für Teilnehmer:innen des Lauftrainings reserviert. 								\n				\n				\n				\n							\n			\n		\n						\n				\n					\n		\n					\n		\n					\n		\n					\n		\n				\n						\n					\n			\n						\n				\n									\n					\n						\n						\n							\n									Veranstaltungsfolder herunterladen\n					\n					\n				\n								\n				\n				\n						\n					\n			\n						\n				\n					\n	\n		\n\n				Hautgesundheit & Sonnenschutz	\n\n\n		\n	\n		Wirbelsäulenturnen für Osteoporose-Betroffene
URL:https://www.oeggk.at/veranstaltung/wings-for-life-run/
CATEGORIES:Bewegung
ATTACH;FMTTYPE=image/jpeg:https://www.oeggk.at/wp-content/uploads/2024/05/Wings-for-Life-1_Min.jpg
END:VEVENT
END:VCALENDAR