BEGIN:VCALENDAR
VERSION:2.0
PRODID:-//Österreichische Gesellschaft vom Goldenen Kreuze - ECPv6.15.9//NONSGML v1.0//EN
CALSCALE:GREGORIAN
METHOD:PUBLISH
X-WR-CALNAME:Österreichische Gesellschaft vom Goldenen Kreuze
X-ORIGINAL-URL:https://www.oeggk.at
X-WR-CALDESC:Veranstaltungen für Österreichische Gesellschaft vom Goldenen Kreuze
REFRESH-INTERVAL;VALUE=DURATION:PT1H
X-Robots-Tag:noindex
X-PUBLISHED-TTL:PT1H
BEGIN:VTIMEZONE
TZID:Europe/Vienna
BEGIN:DAYLIGHT
TZOFFSETFROM:+0100
TZOFFSETTO:+0200
TZNAME:CEST
DTSTART:20250330T010000
END:DAYLIGHT
BEGIN:STANDARD
TZOFFSETFROM:+0200
TZOFFSETTO:+0100
TZNAME:CET
DTSTART:20251026T010000
END:STANDARD
BEGIN:DAYLIGHT
TZOFFSETFROM:+0100
TZOFFSETTO:+0200
TZNAME:CEST
DTSTART:20260329T010000
END:DAYLIGHT
BEGIN:STANDARD
TZOFFSETFROM:+0200
TZOFFSETTO:+0100
TZNAME:CET
DTSTART:20261025T010000
END:STANDARD
BEGIN:DAYLIGHT
TZOFFSETFROM:+0100
TZOFFSETTO:+0200
TZNAME:CEST
DTSTART:20270328T010000
END:DAYLIGHT
BEGIN:STANDARD
TZOFFSETFROM:+0200
TZOFFSETTO:+0100
TZNAME:CET
DTSTART:20271031T010000
END:STANDARD
END:VTIMEZONE
BEGIN:VEVENT
DTSTART;TZID=Europe/Vienna:20260625T180000
DTEND;TZID=Europe/Vienna:20260625T180000
DTSTAMP:20260420T074659
CREATED:20260304T144026Z
LAST-MODIFIED:20260304T144636Z
UID:38413-1782410400-1782410400@www.oeggk.at
SUMMARY:Zahngesundheit & Osteoporose
DESCRIPTION: \n\n								\n				\n					\n		\n					\n		\n				\n						\n					\n			\n						\n				\n					\n	Zahngesundheit & Osteoporose				\n				\n					\n		\n					\n		\n				\n						\n					\n			\n						\n				\n					\n	« Alle Veranstaltungen\n 				\n				\n				\n						\n					\n			\n						\n				\n					Details				\n				\n				\n				\n					\n		\n			25. Juni 2026\n\n	\n\n	 \,  \n\n\n18:00\n\n			\n				\n				\n				\n				\n					\n	Kosten:\nKostenlos 				\n				\n				\n				\n					\n	\n\n	Kategorien:	\n		Vorträge und Seminare	\n\n				\n				\n				\n				\n							\n			\n		\n						\n				\n				\n				\n					Veranstalter				\n				\n				\n				\n					\n	\n			\n			KnochenKraft – Selbsthilfegruppe für OSTEOPOROSE			\n	\n\n	\n	\n\n	Telefon:\n					\n			+43 664 358 32 35			\n	 \n\n\n	\n	E-Mail:\n					\n			office@knochenkraft.at			\n	 \n\n\n\n				\n				\n				\n				\n							\n			\n		\n						\n				\n				\n				\n					Veranstaltungsort				\n				\n				\n				\n					\n				\n				\n	\n			\n		Österreichische Gesellschaft vom Goldenen Kreuze			\n	\n	\n	\n\nKärntner Str. 26/Marco-d'Aviano-G. 1\n			1010\n\n		Wien\,\n\n\n\n\n	Austria\n\n\n\n\n	Google-Karte anzeigen \n\n\n	\n	 \n\n\n\n	\n\n		\n	\n				\n				\n				\n				\n							\n			\n		\n						\n				\n				\n				\n					Anmeldungen / Karten / Eintritt				\n				\n				\n				\n					\n\n			\n			\n	\n	\n\n	\n	\n\n	\n	\n\n\n			\n\n\n	\n	\n\n		\n	\n		\n	Kostenlose Anmeldung\n\n		\n	Die Teilnahme ist frei\, eine Anmeldung erforderlich. Wir freuen uns auf Ihr Kommen! \n\n\n		\n	\n		2	\n	\n		Teilnehmer*innen	\n\n\n		\n				\n	\n	\n\n\n		\n	\n\n		\n			\n	\n		Melden Sie sich hier an:	\n\n	\n\n	\n		Teilnehmen	\n\n\n	\n\n\n			\n\n\n\n		\n	\n\n	\n\n		\n	\n				\n				\n				\n				\n							\n			\n		\n						\n				\n				\n				\n					Veranstaltung speichern				\n				\n				\n				\n					\n	\n		\n\n	\n	Zum Kalender hinzufügen	\n		\n	\n\n		\n			\n									\n	Google Kalender\n\n									\n	iCalendar\n\n									\n	Outlook 365\n\n									\n	Outlook Live\n\n							\n		\n\n		\n	\n\n				\n				\n					\n		\n				\n			\n						\n				\n					\n	\n				\n				\n				\n				\n									Foto © Universitätszahnklinik Wien 								\n				\n				\n				\n					Zahngesundheit & Osteoporose				\n				\n				\n				\n									Die Verbindung zwischen Mundgesundheit und Osteoporose wird häufig unterschätzt. Medikamente\, die zur Behandlung der Osteoporose eingesetzt werden\, stärken zwar die Knochen\, können aber gleichzeitig Auswirkungen auf den Kieferknochen haben. Dies kann bei zahnärztlichen Eingriffen gele-gentlich Unsicherheiten hervorrufen\, die durch fundiertes Wissen vermeidbar sind. In ihrem Vortrag erklärt Assoz. Prof. DDr. Ulrike Kuchler die Zusammenhänge zwischen eingesetzten Arzneimitteln und der Mundgesundheit. Besonderer Fokus liegt auf der Bedeutung der eigenen Vor-sorge sowie der engen Zusammenarbeit zwischen Zahnärztin oder Zahnarzt und der behandelnden Ärztin bzw. dem behandelnden Arzt. Eine sorgfältige Planung zahnärztlicher Maßnahmen trägt ent-scheidend dazu bei\, die Sicherheit und Gesundheit der Patient:innen optimal zu gewährleisten.ASSOZ. PROF. DDR. ULRIKE KUCHLER studierte Zahn- und Humanmedizin und arbeitet an der Uni-versitätszahnklinik Wien sowie in der Privatpraxis. Der Vortrag findet in Kooperation mit der Selbsthilfegruppe Knochenkraft statt. 								\n				\n				\n				\n							\n			\n		\n						\n				\n					\n		\n					\n		\n					\n		\n					\n		\n				\n						\n					\n			\n						\n				\n									\n					\n						\n						\n							\n									Veranstaltungsfolder herunterladen\n					\n					\n				\n								\n				\n				\n						\n					\n			\n						\n				\n					\n	\n		\n\n				Ausstellung: "Transsexual Revolution"	\n\n\n		\n	\n		Ausstellung: "Transsexual Revolution"
URL:https://www.oeggk.at/veranstaltung/zahngesundheit-osteoporose/
LOCATION:Österreichische Gesellschaft vom Goldenen Kreuze\, Kärntner Str. 26/Marco-d'Aviano-G. 1\, Wien\, 1010\, Austria
CATEGORIES:Vorträge und Seminare
ATTACH;FMTTYPE=image/jpeg:https://www.oeggk.at/wp-content/uploads/2026/03/20260625-Kuchler-c-Universitaetszahnklinik-Wien_web.jpg
ORGANIZER;CN="KnochenKraft - Selbsthilfegruppe f%C3%BCr OSTEOPOROSE":MAILTO:office@knochenkraft.at
GEO:48.205189;16.3707967
X-APPLE-STRUCTURED-LOCATION;VALUE=URI;X-ADDRESS=Österreichische Gesellschaft vom Goldenen Kreuze Kärntner Str. 26/Marco-d'Aviano-G. 1 Wien 1010 Austria;X-APPLE-RADIUS=500;X-TITLE=Kärntner Str. 26/Marco-d'Aviano-G. 1:geo:16.3707967,48.205189
END:VEVENT
END:VCALENDAR