BEGIN:VCALENDAR
VERSION:2.0
PRODID:-//Österreichische Gesellschaft vom Goldenen Kreuze - ECPv6.15.9//NONSGML v1.0//EN
CALSCALE:GREGORIAN
METHOD:PUBLISH
X-ORIGINAL-URL:https://www.oeggk.at
X-WR-CALDESC:Veranstaltungen für Österreichische Gesellschaft vom Goldenen Kreuze
REFRESH-INTERVAL;VALUE=DURATION:PT1H
X-Robots-Tag:noindex
X-PUBLISHED-TTL:PT1H
BEGIN:VTIMEZONE
TZID:Europe/Vienna
BEGIN:DAYLIGHT
TZOFFSETFROM:+0100
TZOFFSETTO:+0200
TZNAME:CEST
DTSTART:20250330T010000
END:DAYLIGHT
BEGIN:STANDARD
TZOFFSETFROM:+0200
TZOFFSETTO:+0100
TZNAME:CET
DTSTART:20251026T010000
END:STANDARD
BEGIN:DAYLIGHT
TZOFFSETFROM:+0100
TZOFFSETTO:+0200
TZNAME:CEST
DTSTART:20260329T010000
END:DAYLIGHT
BEGIN:STANDARD
TZOFFSETFROM:+0200
TZOFFSETTO:+0100
TZNAME:CET
DTSTART:20261025T010000
END:STANDARD
BEGIN:DAYLIGHT
TZOFFSETFROM:+0100
TZOFFSETTO:+0200
TZNAME:CEST
DTSTART:20270328T010000
END:DAYLIGHT
BEGIN:STANDARD
TZOFFSETFROM:+0200
TZOFFSETTO:+0100
TZNAME:CET
DTSTART:20271031T010000
END:STANDARD
END:VTIMEZONE
BEGIN:VEVENT
DTSTART;TZID=Europe/Vienna:20260519T160000
DTEND;TZID=Europe/Vienna:20260519T160000
DTSTAMP:20260421T144533
CREATED:20260304T121734Z
LAST-MODIFIED:20260319T094857Z
UID:10001765-1779206400-1779206400@www.oeggk.at
SUMMARY:Verstecktes Wien: Spittelberg entdecken
DESCRIPTION:Verstecktes Wien: Spittelberg entdecken\n« Alle Veranstaltungen \nDetails\n19. Mai 2026\n\,\n16:00 \nKosten:\n€12\,0 – €15\,0 \nKategorien:\n„Verstecktes Wien“\, Kunst und Kultur \nVeranstalter\n\nÖsterreichische Gesellschaft vom Goldenen Kreuze \nTelefon:\n\n+43 1 996 80 92  \nE-Mail:\n\ngesellschaft@oeggk.at  \nVeranstaltungsort\n\nVor dem Volkstheater \nArthur-Schnitzler-Platz 1\n1070\nWien\,\nAustria\nGoogle-Karte anzeigen \n \nAnmeldungen / Karten / Eintritt\n\n\n\n\n\nAnmeldungen\nThe numbers below include tickets for this event already in your cart. Clicking „Get Tickets“ will allow you to edit any existing attendee information as well as change ticket quantities.\nAnmeldung für ÖGGK-Mitglieder: Spittelberg\nBegleitpersonen von ÖGGK Mitgliedern können ebenfalls zum ermäßigten Mitgliedertarif teilnehmen. Beim Kauf mehrere Karten wird beim Buchungsvorgang ein entsprechender Rabatt abgezogen.\n€\n12\,0\nUnbegrenzte Teilnehmerzahl\n\nDecrease ticket quantity for Anmeldung für ÖGGK-Mitglieder: Spittelberg\n–\n\nAnzahl \n\n\nIncrease ticket quantity for Anmeldung für ÖGGK-Mitglieder: Spittelberg\n+\n\nAnmeldung Normalpreis: Spittelberg\nBeim Kauf mehrere Karten wird beim Buchungsvorgang ein entsprechender Rabatt abgezogen. Bitte beachten Sie\, dass Ihre Anmeldung verbindlich ist. In jedem Fall ist bei Verhinderung rechtzeitig (24 Stunden vorher) abzusagen.\n€\n15\,0\nUnbegrenzte Teilnehmerzahl\n\nDecrease ticket quantity for Anmeldung Normalpreis: Spittelberg\n–\n\nAnzahl \n\n\nIncrease ticket quantity for Anmeldung Normalpreis: Spittelberg\n+\n\nAnzahl:\n0\nSumme:\n€\n0\,0\n\nAnmelden \nVeranstaltung speichern\n\n\nZum Kalender hinzufügen \n  \n\nGoogle Kalender\niCalendar\nOutlook 365\nOutlook Live\n\n \nFoto © Michael Schmid \n„Verstecktes Wien“: Spittelberg\nDieser thematische Rundgang rund um den Spittelberg erschließt ein Viertel mit bewegter Geschichte. Ursprünglich lag der „Spitalberg“ mitten im Weideland und gehörte dem Bürgerspital. Nach der zwei-ten Türkenbelagerung schwer beschädigt\, wurde das Gebiet neu aufgebaut und 1850 als Teil des 7. Bezirks Neubau in Wien eingemeindet. Vom 18. bis ins 20. Jahrhundert hatte der Spittelberg wegen der dichten Bebauung und der Prostitution einen schlechten Ruf. Heute gilt er als gelungenes Beispiel be-hutsamer Luxussanierung. Enge Gassen\, versteckte Innenhöfe und gut erhaltene Biedermeierhäuser vermitteln noch immer dörflichen Charme und erinnern an die frühere Vorstadtstruktur. Zum histori-schen Zentrum Wiens zählend\, prägt auch das Volkstheater Wien das Viertel: 1881 als erster Theater-bau nach dem Ringtheaterbrand errichtet\, wurde es zum Prototyp vieler Bühnen der Monarchie und zu einem bedeutenden kulturellen Mittelpunkt des Bezirks. \nDie Führung findet im Rahmen der Reihe VERSTECKTES WIEN statt und wird von MAG. BRIGITTE LINDINGER begleitet. \nTreffpunkt: Vor dem Volkstheater \nEintritt\, Führung und wichtige Infos\nDie Teilnehmeranzahl ist limitiert! Melden Sie sich am besten gleich an! \nKosten für Eintritt und Führung: € 15.- bzw. € 12.- für Mitglieder.\nBeim Kauf mehrerer Karten gewähren wir schon ab 2 Tickets vergünstigte Preise (siehe Infoblatt unten). Der Rabatt wird im Warenkorb abgezogen.\n \nBegleitpersonen von Mitgliedern können ebenfalls zum ermäßigten Mitgliedertarif teilnehmen\, sofern sie mit dem Mitglied gemeinsam an der Führung teilnehmen (einfach mehrere Mitgliederkarten kaufen). \nBei Verhinderung ist rechtzeitig (24 Stunden) abzusagen\, ansonsten müssen Eintritt und Führung verrechnet werden. \n\nInfoblatt herunterladen\n \nBlöcke kaufen und jetzt gleich anmelden!\nUnsere Blöcke sind 12 Monate gültig\, auf Anfrage ist eine Verlängerung vorbehaltlich möglich.\nDie Blöcke sind übertragbar und nicht personenbezogen. \nFür die Teilnahme an den Führungen ist eine Anmeldung über unser Generalsekretariat (Tel. 01/996 80 92\, E-Mail: gesellschaft@oeggk.at) erforderlich!\n \n\nBlöcke für Vereinsmitglieder \n€ 21\,6 – € 63\,0Preisspanne: € 21\,6 bis € 63\,0\n Ausführung wählen  \n\nBlöcke für Nicht-Mitglieder \n€ 27\,0 – € 79\,1Preisspanne: € 27\,0 bis € 79\,1\n Ausführung wählen  \n\nZu allen „Versteckes Wien“-Terminen\n\n\nVeranstaltungsfolder herunterladen
URL:https://www.oeggk.at/veranstaltung/verstecktes-wien-spittelberg-entdecken/
LOCATION:Vor dem Volkstheater\, Arthur-Schnitzler-Platz 1\, Wien\, 1070\, Austria
CATEGORIES:„Verstecktes Wien“,Kunst und Kultur
ATTACH;FMTTYPE=image/jpeg:https://www.oeggk.at/wp-content/uploads/2026/03/20260519-Spittelberg-c-©-Michael-Schmid_web.jpg
ORGANIZER;CN="%C3%96sterreichische Gesellschaft vom Goldenen Kreuze":MAILTO:gesellschaft@oeggk.at
GEO:48.2051569;16.3571477
X-APPLE-STRUCTURED-LOCATION;VALUE=URI;X-ADDRESS=Vor dem Volkstheater Arthur-Schnitzler-Platz 1 Wien 1070 Austria;X-APPLE-RADIUS=500;X-TITLE=Arthur-Schnitzler-Platz 1:geo:16.3571477,48.2051569
END:VEVENT
END:VCALENDAR